BEGIN:VCALENDAR
VERSION:2.0
PRODID:-//Broadcasters &#039; Child Development Center - ECPv6.15.14//NONSGML v1.0//EN
CALSCALE:GREGORIAN
METHOD:PUBLISH
X-ORIGINAL-URL:https://bcdconline.org
X-WR-CALDESC:Events for Broadcasters &#039; Child Development Center
REFRESH-INTERVAL;VALUE=DURATION:PT1H
X-Robots-Tag:noindex
X-PUBLISHED-TTL:PT1H
BEGIN:VTIMEZONE
TZID:America/New_York
BEGIN:DAYLIGHT
TZOFFSETFROM:-0500
TZOFFSETTO:-0400
TZNAME:EDT
DTSTART:20210314T070000
END:DAYLIGHT
BEGIN:STANDARD
TZOFFSETFROM:-0400
TZOFFSETTO:-0500
TZNAME:EST
DTSTART:20211107T060000
END:STANDARD
BEGIN:DAYLIGHT
TZOFFSETFROM:-0500
TZOFFSETTO:-0400
TZNAME:EDT
DTSTART:20220313T070000
END:DAYLIGHT
BEGIN:STANDARD
TZOFFSETFROM:-0400
TZOFFSETTO:-0500
TZNAME:EST
DTSTART:20221106T060000
END:STANDARD
BEGIN:DAYLIGHT
TZOFFSETFROM:-0500
TZOFFSETTO:-0400
TZNAME:EDT
DTSTART:20230312T070000
END:DAYLIGHT
BEGIN:STANDARD
TZOFFSETFROM:-0400
TZOFFSETTO:-0500
TZNAME:EST
DTSTART:20231105T060000
END:STANDARD
END:VTIMEZONE
BEGIN:VEVENT
DTSTART;TZID=America/New_York:20221015T090000
DTEND;TZID=America/New_York:20221015T130000
DTSTAMP:20260422T063907
CREATED:20220926T154125Z
LAST-MODIFIED:20220928T152158Z
UID:6509-1665824400-1665838800@bcdconline.org
SUMMARY:Fall Play Date
DESCRIPTION:Join us on a Saturday and get to know your child’s friends and family at our BCDC Playground! \nWe will have a visit from the local DC-FEMS station featuring a fire truck from 10:00 am-12:00 pm.
URL:https://bcdconline.org/event/fall-play-date/
CATEGORIES:Program Activity
END:VEVENT
BEGIN:VEVENT
DTSTART;TZID=America/New_York:20220930T080000
DTEND;TZID=America/New_York:20220930T090000
DTSTAMP:20260422T063907
CREATED:20220908T180927Z
LAST-MODIFIED:20220929T144354Z
UID:6489-1664524800-1664528400@bcdconline.org
SUMMARY:BCDC Board Meet & Greet
DESCRIPTION:Come grab a coffee and meet members of our BCDC Board!
URL:https://bcdconline.org/event/bcdc-board-meet-greet-3/
LOCATION:Broadcasters’ CDC\, 4200 Wisconsin Ave NW LL-01\, Washington\, DC\, 20016\, United States
CATEGORIES:Program Activity
END:VEVENT
BEGIN:VEVENT
DTSTART;TZID=America/New_York:20220921T080000
DTEND;TZID=America/New_York:20220921T180000
DTSTAMP:20260422T063907
CREATED:20220908T180936Z
LAST-MODIFIED:20220926T154125Z
UID:6493-1663747200-1663783200@bcdconline.org
SUMMARY:Peace Day
DESCRIPTION:Give love and celebrate peace!
URL:https://bcdconline.org/event/peace-day/
CATEGORIES:Program Activity
END:VEVENT
BEGIN:VEVENT
DTSTART;TZID=America/New_York:20220912T080000
DTEND;TZID=America/New_York:20220912T180000
DTSTAMP:20260422T063907
CREATED:20220908T180927Z
LAST-MODIFIED:20220926T154118Z
UID:6491-1662969600-1663005600@bcdconline.org
SUMMARY:Grandparents Day
DESCRIPTION:Grandparents are invited to join us for a Tea Party
URL:https://bcdconline.org/event/grandparents-day/
CATEGORIES:Program Activity
END:VEVENT
BEGIN:VEVENT
DTSTART;TZID=America/New_York:20220909T080000
DTEND;TZID=America/New_York:20220909T180000
DTSTAMP:20260422T063907
CREATED:20220908T180927Z
LAST-MODIFIED:20220926T154118Z
UID:6490-1662710400-1662746400@bcdconline.org
SUMMARY:Harmony Day
DESCRIPTION:Wear something orange!
URL:https://bcdconline.org/event/harmony-day-3/
CATEGORIES:Program Activity
END:VEVENT
BEGIN:VEVENT
DTSTART;TZID=America/New_York:20220131T080000
DTEND;TZID=America/New_York:20220131T180000
DTSTAMP:20260422T063907
CREATED:20220111T160936Z
LAST-MODIFIED:20220114T165433Z
UID:6469-1643616000-1643652000@bcdconline.org
SUMMARY:Backwards Day!
DESCRIPTION:Children can wear their clothes backwards!
URL:https://bcdconline.org/event/backwards-day/
CATEGORIES:Program Activity
END:VEVENT
BEGIN:VEVENT
DTSTART;TZID=America/New_York:20220127T080000
DTEND;TZID=America/New_York:20220127T180000
DTSTAMP:20260422T063907
CREATED:20220111T160930Z
LAST-MODIFIED:20220114T165429Z
UID:6468-1643270400-1643306400@bcdconline.org
SUMMARY:National Chocolate Cake Day!
DESCRIPTION:Each class will be making chocolate cake as a cooking activity.
URL:https://bcdconline.org/event/national-chocolate-cake-day/
CATEGORIES:Program Activity
END:VEVENT
BEGIN:VEVENT
DTSTART;TZID=America/New_York:20220119T080000
DTEND;TZID=America/New_York:20220119T180000
DTSTAMP:20260422T063907
CREATED:20220111T160930Z
LAST-MODIFIED:20220114T165429Z
UID:6467-1642579200-1642615200@bcdconline.org
SUMMARY:Storybook Character Dress Up!
DESCRIPTION:Children may dress as ther favorite storybook or comic character.
URL:https://bcdconline.org/event/storybook-character-dress-up/
CATEGORIES:Program Activity
END:VEVENT
BEGIN:VEVENT
DTSTART;TZID=America/New_York:20220114T080000
DTEND;TZID=America/New_York:20220114T180000
DTSTAMP:20260422T063907
CREATED:20220111T160930Z
LAST-MODIFIED:20220114T165429Z
UID:6465-1642147200-1642183200@bcdconline.org
SUMMARY:Harmony Day!!
DESCRIPTION:BCDC wears orange!
URL:https://bcdconline.org/event/harmony-day-2/
CATEGORIES:Program Activity
END:VEVENT
BEGIN:VEVENT
DTSTART;TZID=America/New_York:20220113T080000
DTEND;TZID=America/New_York:20220113T180000
DTSTAMP:20260422T063907
CREATED:20220111T160930Z
LAST-MODIFIED:20220114T165429Z
UID:6464-1642060800-1642096800@bcdconline.org
SUMMARY:Making Unity Wreaths!
DESCRIPTION:Celebrate Dr. Martin Luther King Jr. by making a unity wreath!
URL:https://bcdconline.org/event/making-unity-wreaths/
CATEGORIES:Program Activity
END:VEVENT
END:VCALENDAR