BEGIN:VCALENDAR
VERSION:2.0
PRODID:-//Broadcasters &#039; Child Development Center - ECPv6.15.14//NONSGML v1.0//EN
CALSCALE:GREGORIAN
METHOD:PUBLISH
X-ORIGINAL-URL:https://bcdconline.org
X-WR-CALDESC:Events for Broadcasters &#039; Child Development Center
REFRESH-INTERVAL;VALUE=DURATION:PT1H
X-Robots-Tag:noindex
X-PUBLISHED-TTL:PT1H
BEGIN:VTIMEZONE
TZID:America/New_York
BEGIN:DAYLIGHT
TZOFFSETFROM:-0500
TZOFFSETTO:-0400
TZNAME:EDT
DTSTART:20210314T070000
END:DAYLIGHT
BEGIN:STANDARD
TZOFFSETFROM:-0400
TZOFFSETTO:-0500
TZNAME:EST
DTSTART:20211107T060000
END:STANDARD
BEGIN:DAYLIGHT
TZOFFSETFROM:-0500
TZOFFSETTO:-0400
TZNAME:EDT
DTSTART:20220313T070000
END:DAYLIGHT
BEGIN:STANDARD
TZOFFSETFROM:-0400
TZOFFSETTO:-0500
TZNAME:EST
DTSTART:20221106T060000
END:STANDARD
BEGIN:DAYLIGHT
TZOFFSETFROM:-0500
TZOFFSETTO:-0400
TZNAME:EDT
DTSTART:20230312T070000
END:DAYLIGHT
BEGIN:STANDARD
TZOFFSETFROM:-0400
TZOFFSETTO:-0500
TZNAME:EST
DTSTART:20231105T060000
END:STANDARD
END:VTIMEZONE
BEGIN:VEVENT
DTSTART;TZID=America/New_York:20221010T160000
DTEND;TZID=America/New_York:20221010T200000
DTSTAMP:20260422T103135
CREATED:20220926T154125Z
LAST-MODIFIED:20220928T153345Z
UID:6508-1665417600-1665432000@bcdconline.org
SUMMARY:BCDC Pizza Night
DESCRIPTION:20% of your dine-in\, curbside\, or carry-out sales go back to BCDC! Just mention BCDC when ordering!
URL:https://bcdconline.org/event/bcdc-pizza-night/
LOCATION:Potomac Pizza\, 19 Wisconsin Circle\, Chevy Chase\, Maryland\, 20815
CATEGORIES:Fundraiser
END:VEVENT
BEGIN:VEVENT
DTSTART;TZID=America/New_York:20220912T180000
DTEND;TZID=America/New_York:20220912T200000
DTSTAMP:20260422T103135
CREATED:20220908T180927Z
LAST-MODIFIED:20220926T154118Z
UID:6492-1663005600-1663012800@bcdconline.org
SUMMARY:BCDC Fundraiser-SILVER
DESCRIPTION:Please join us for BCDC Night at SILVER in Cathedrial Heights. Make it a fun night and order dinner\, and BCDC gets a percentage of the sales. Just mention BCDC when ordering!
URL:https://bcdconline.org/event/bcdc-fundraiser-silver/
LOCATION:Maryland
CATEGORIES:Fundraiser
END:VEVENT
BEGIN:VEVENT
DTSTART;TZID=America/New_York:20220120T160000
DTEND;TZID=America/New_York:20220120T200000
DTSTAMP:20260422T103135
CREATED:20220114T165433Z
LAST-MODIFIED:20220114T165433Z
UID:6473-1642694400-1642708800@bcdconline.org
SUMMARY:BCDC Fundraiser-Potomac Pizza Night!
DESCRIPTION:Please join us for BCDC Night at Potomac Pizza in Friendship Heights. Make it a fun night by ordering pizza for dinner\, and BCDC gets a percentage of the sales. Just mention BCDC when ordering.
URL:https://bcdconline.org/event/bcdc-fundraiser-potomac-pizza-night/
LOCATION:Maryland
CATEGORIES:Fundraiser
END:VEVENT
END:VCALENDAR